BEGIN:VCALENDAR
VERSION:2.0
PRODID:-//Perry Institute for Marine Science - ECPv6.15.17.1//NONSGML v1.0//EN
CALSCALE:GREGORIAN
METHOD:PUBLISH
X-ORIGINAL-URL:https://www.perryinstitute.org
X-WR-CALDESC:Events for Perry Institute for Marine Science
REFRESH-INTERVAL;VALUE=DURATION:PT1H
X-Robots-Tag:noindex
X-PUBLISHED-TTL:PT1H
BEGIN:VTIMEZONE
TZID:America/Toronto
BEGIN:DAYLIGHT
TZOFFSETFROM:-0500
TZOFFSETTO:-0400
TZNAME:EDT
DTSTART:20240310T070000
END:DAYLIGHT
BEGIN:STANDARD
TZOFFSETFROM:-0400
TZOFFSETTO:-0500
TZNAME:EST
DTSTART:20241103T060000
END:STANDARD
BEGIN:DAYLIGHT
TZOFFSETFROM:-0500
TZOFFSETTO:-0400
TZNAME:EDT
DTSTART:20250309T070000
END:DAYLIGHT
BEGIN:STANDARD
TZOFFSETFROM:-0400
TZOFFSETTO:-0500
TZNAME:EST
DTSTART:20251102T060000
END:STANDARD
BEGIN:DAYLIGHT
TZOFFSETFROM:-0500
TZOFFSETTO:-0400
TZNAME:EDT
DTSTART:20260308T070000
END:DAYLIGHT
BEGIN:STANDARD
TZOFFSETFROM:-0400
TZOFFSETTO:-0500
TZNAME:EST
DTSTART:20261101T060000
END:STANDARD
END:VTIMEZONE
BEGIN:VEVENT
DTSTART;VALUE=DATE:20250801
DTEND;VALUE=DATE:20250816
DTSTAMP:20260425T061257
CREATED:20250130T182117Z
LAST-MODIFIED:20250130T182507Z
UID:11031-1754006400-1755302399@www.perryinstitute.org
SUMMARY:PADI Instructor Development Course With the Perry Institute for Marine Science
DESCRIPTION:Dates: August 1st-15th\, 2025\nLocation: Blue Ocean PADI 5 Star IDC Center on New Providence\, The Bahamas \nReady to take your diving skills to the next level and make a real difference for the ocean? Join us for a PADI Instructor Development Course (IDC) in New Providence\, The Bahamas\, from August 1st-15th\, 2025\, to become a PADI Open Water Scuba Instructor (OWSI). This course is designed to give you the tools to become a dive instructor with a focus on marine conservation\, all while enjoying some of the best diving in the world and learning from the Perry Institute for Marine Sciences experts! \n\nWhy This IDC?\n\nConservation-Focused Training: We’ve built this IDC around the idea that divers can make a big impact on preserving the ocean. Along with your instructor training\, you’ll also earn instructor specialties that focus on key areas of marine protection. \n5 Specialties Included:\n\nReef Rescue Diver (Coral Restoration Distinctive Specialty) with the Reef Rescue Network \nDive Against Debris\nAWARE Shark Conservation\nSea Turtle Awareness\nEmergency Oxygen Provider\n\n\nHands-On Learning: Gain real-world experience in conservation efforts that directly support marine biodiversity within coral reef ecosystems\, including training with Perry Institute for Marine Science Coral Restoration Specialist’s learning coral nursery maintenance and outplanting techniques.\nEmergency First Response Instructor: As part of your IDC\, you’ll also become a certified Emergency First Response Instructor (EFRI) – an essential qualification for teaching CPR\, first aid\, and emergency care in diving and beyond.\n\n\nPrerequisites:\nBefore you sign up\, please ensure you meet the following requirements: \n\nPADI Divemaster or:\n\nAn instructor member in good standing (renewed or eligible to renew) with another recognized recreational diver training organization\nA leadership-level certification in good standing (renewed or eligible to renew) with another recognized recreational diver training organization\n60 logged dives with documented experience in night diving\, deep diving\, and underwater navigation.\n\n\nAt least 18 years old.\nMedical clearance attesting to dive fitness\, signed by a physician within the previous 12 months\, with no medical condition changes.\nA certified diver for at least six months.\nCompleted the EFR Primary and Secondary Care course\, or other qualifying training\, within the last 24 months.\nIf not a PADI Divemaster\, successfully complete the PADI Divemaster course diver rescue skills assessment. \nDocumentation of any non-PADI qualifying entry-level\, advanced\, rescue\, and leadership-level certifications as required.\n\n\nWho’s This For?\nThis IDC is perfect for anyone who wants to teach diving while also making an impact on ocean conservation. Whether you’re an experienced diver or relatively new to the scene\, if you care about protecting the ocean and want to inspire others to do the same\, this course is for you. \n\nLocation Perks:\n\nNew Providence offers beautiful dive sites\, incredible visibility\, and a vibrant marine ecosystem – all the perfect backdrop for training. For your specialty instructor training you can train at a local coral nursery\, dive with Caribbean reef sharks\, and observe sea turtles amongst the stunning coral reefs of The Bahamas. \n\n\nCourse Price:\n\nUSD $4\,545 \n\n\nWhat’s Included?\n\nAll OWSI & EFRI training requirements for certification\, including classroom\, pool\, and open water sessions.\nAll PADI OWSI & EFRI course materials & eLearning.\nPADI OWSI and EFRI application fees\n5 PADI Instructor Specialty courses including all training and PADI application fees.\nPADI IE Fees \n\n\nNot Included:\n\nFlights to Nassau (New Providence\, The Bahamas)\nAccommodation and Meals\nLocal transport to and from the PADI 5 Star IDC Center (car hire/share recommended)\n\n\nWhere: \nBlue Ocean 5 Star IDC Center at Albany Resort on the South West coast of New Providence. \n*Exact location provided upon booking  \nIf you’re looking for a meaningful way to dive into a career that combines your passion for the ocean with your love for teaching\, this IDC is a great fit. Space is limited\, so grab your spot and take the first step towards becoming a PADI Open Water Scuba Instructor with a passion for protecting our ocean and marine inhabitants. \n\nQuestions or ready to sign up?\nFor additional information email our PADI Course Director Kate Harrison (kharrison@perryinstitute.org) who will be your instructor during this course\, and will be happy to provide accommodation and local transport information and recommendations as well as answer any questions regarding the course. 
URL:https://www.perryinstitute.org/event/padi-instructor-development-course-2025/
LOCATION:Blue Ocean PADI 5 Star IDC Center\, Nassau\, New Providence\, Bahamas
ATTACH;FMTTYPE=image/jpeg:https://www.perryinstitute.org/wp-content/uploads/2025/01/Screenshot-2025-01-30-at-10.12.32-AM.jpg
ORGANIZER;CN="Kate Harrison":MAILTO:kharrison@perryinstitute.org
END:VEVENT
END:VCALENDAR