BEGIN:VCALENDAR
VERSION:2.0
PRODID:-//Perry Institute for Marine Science - ECPv6.15.17.1//NONSGML v1.0//EN
CALSCALE:GREGORIAN
METHOD:PUBLISH
X-ORIGINAL-URL:https://www.perryinstitute.org
X-WR-CALDESC:Events for Perry Institute for Marine Science
REFRESH-INTERVAL;VALUE=DURATION:PT1H
X-Robots-Tag:noindex
X-PUBLISHED-TTL:PT1H
BEGIN:VTIMEZONE
TZID:America/Toronto
BEGIN:DAYLIGHT
TZOFFSETFROM:-0500
TZOFFSETTO:-0400
TZNAME:EDT
DTSTART:20240310T070000
END:DAYLIGHT
BEGIN:STANDARD
TZOFFSETFROM:-0400
TZOFFSETTO:-0500
TZNAME:EST
DTSTART:20241103T060000
END:STANDARD
BEGIN:DAYLIGHT
TZOFFSETFROM:-0500
TZOFFSETTO:-0400
TZNAME:EDT
DTSTART:20250309T070000
END:DAYLIGHT
BEGIN:STANDARD
TZOFFSETFROM:-0400
TZOFFSETTO:-0500
TZNAME:EST
DTSTART:20251102T060000
END:STANDARD
BEGIN:DAYLIGHT
TZOFFSETFROM:-0500
TZOFFSETTO:-0400
TZNAME:EDT
DTSTART:20260308T070000
END:DAYLIGHT
BEGIN:STANDARD
TZOFFSETFROM:-0400
TZOFFSETTO:-0500
TZNAME:EST
DTSTART:20261101T060000
END:STANDARD
END:VTIMEZONE
BEGIN:VEVENT
DTSTART;TZID=America/Toronto:20251018T090000
DTEND;TZID=America/Toronto:20251018T110000
DTSTAMP:20260425T093533
CREATED:20251006T210958Z
LAST-MODIFIED:20251006T212124Z
UID:12281-1760778000-1760785200@www.perryinstitute.org
SUMMARY:Mangrove Propagule Collection Day: Help Restore Bahamas Coastlines
DESCRIPTION:The future of The Bahamas’ coastlines starts with the smallest of seeds. \nJoin the Perry Institute for Marine Science and The Bahamas Mangrove Alliance for a hands-on morning collecting red mangrove propagules – the floating seedlings that grow into the lifelines of our islands. Let’s turn thriving forests of New Providence into hope for communities in Abaco and Grand Bahama still recovering from Hurricane Dorian. \nEvent Description\nHealthy mangroves are critical for protecting our coasts\, supporting fisheries\, and fighting climate change. During this volunteer event\, you’ll wade through calm\, shallow waters in beautiful Adelaide Village to gather red mangrove propagules\, helping to restore the habitats that shelter marine life and buffer shorelines against storms. No experience is needed\, just curiosity\, teamwork\, and love for the ocean. \nAfter a successful first collection last month\, we’re back for Round 2. Every propagule you collect brings us closer to re-greening the islands that need it most. \nThis community effort is part of our work with The Bahamas Mangrove Alliance\, alongside co-founders Bonefish & Tarpon Trust and Waterkeepers Bahamas. \nPlease fill out your volunteer waiver before attending the event at perryinstitute.org/volunteer. We can’t wait to see you there!
URL:https://www.perryinstitute.org/event/mangrove-restoration-bahamas-propagule-collection-day/
LOCATION:Adelaide Village\, New Providence\, The Bahamas\, Bahamas
CATEGORIES:Mangroves
ATTACH;FMTTYPE=image/jpeg:https://www.perryinstitute.org/wp-content/uploads/2025/10/Screenshot-2025-10-06-at-2.06.03-PM.jpg
ORGANIZER;CN="Danielle Cartwright":MAILTO:dcartwright@perryinstitute.org
END:VEVENT
END:VCALENDAR